BEGIN:VCALENDAR
VERSION:2.0
PRODID:-//wp-events-plugin.com//7.2.3.1//EN
BEGIN:VEVENT
UID:295@kneippverein-ludwigsburg.de
DTSTART:20250917T160000Z
DTEND:20250917T190000Z
DTSTAMP:20250310T142724Z
URL:https://www.kneippverein-ludwigsburg.de/veranstaltungen/wickelkurs/
SUMMARY:Wickelkurs
DESCRIPTION:Wickel und Auflagen sind überlieferte und bewährte Methoden a
 us der Naturheilkunde. Jeder macht und bekommt einen Wickel.\nBitte mitbri
 ngen: bequeme Kleidung\, 1 Isomatte\, 1 Decke\, 1 kleines Kissen 1 Wärmfl
 asche.\nKosten: 25 € für Mitglieder\, 30 € für Gäste\nLeitung: Notb
 urga Palle\nAnmeldung: Tel. 07141/ 9564449 oder info@kneippverein-ludwigsb
 urg.de
LOCATION:Ev. Gemeindezentrum\, Wilhelm-Nagel-Str. 59\, Ludwigsburg-Hoheneck
 \, 71642\, Deutschland
X-APPLE-STRUCTURED-LOCATION;VALUE=URI;X-ADDRESS=Wilhelm-Nagel-Str. 59\, Lud
 wigsburg-Hoheneck\, 71642\, Deutschland;X-APPLE-RADIUS=100;X-TITLE=Ev. Gem
 eindezentrum:geo:0,0
END:VEVENT
END:VCALENDAR