BEGIN:VCALENDAR
VERSION:2.0
PRODID:-//wp-events-plugin.com//7.2.3.1//EN
BEGIN:VEVENT
UID:187@kneippverein-ludwigsburg.de
DTSTART:20260328T000000Z
DTEND:20260328T000000Z
DTSTAMP:20251230T113207Z
URL:https://www.kneippverein-ludwigsburg.de/veranstaltungen/sanfte-gymnast
 ik-fuer-aeltere-menschen/
SUMMARY:Frühlingsfest Alt-Hoheneck
DESCRIPTION:Im Rahmen des Festes laden wir an unseren Stand ein.\n\nNähere
  Infos unter www.ludwigsburg.de im Veranstaltungskalender sowie in der Pre
 sse.
END:VEVENT
END:VCALENDAR