BEGIN:VCALENDAR
VERSION:2.0
PRODID:-//wp-events-plugin.com//7.2.3.1//EN
BEGIN:VEVENT
UID:8@kneippverein-ludwigsburg.de
DTSTART;TZID=Europe/Berlin:20250430T180000
DTEND;TZID=Europe/Berlin:20250430T190000
DTSTAMP:20241207T094123Z
URL:https://www.kneippverein-ludwigsburg.de/veranstaltungen/progressive-mu
 skelentspannung/
SUMMARY:Progressive Muskelentspannung
DESCRIPTION:Progressive Muskelentspannung
LOCATION:Ev. Gemeindezentrum\, Wilhelm-Nagel-Str. 59\, Ludwigsburg-Hoheneck
 \, 71642\, Deutschland
X-APPLE-STRUCTURED-LOCATION;VALUE=URI;X-ADDRESS=Wilhelm-Nagel-Str. 59\, Lud
 wigsburg-Hoheneck\, 71642\, Deutschland;X-APPLE-RADIUS=100;X-TITLE=Ev. Gem
 eindezentrum:geo:0,0
END:VEVENT
BEGIN:VTIMEZONE
TZID:Europe/Berlin
X-LIC-LOCATION:Europe/Berlin
BEGIN:DAYLIGHT
DTSTART:20250330T030000
TZOFFSETFROM:+0100
TZOFFSETTO:+0200
TZNAME:CEST
END:DAYLIGHT
END:VTIMEZONE
END:VCALENDAR