BEGIN:VCALENDAR
VERSION:2.0
PRODID:-//wp-events-plugin.com//7.2.3.1//EN
BEGIN:VEVENT
UID:11@kneippverein-ludwigsburg.de
DTSTART:20250605T090000Z
DTEND:20250605T190000Z
DTSTAMP:20241207T092705Z
URL:https://www.kneippverein-ludwigsburg.de/veranstaltungen/jahresausflug-
 nach-bad-boll/
SUMMARY:Jahresausflug nach Wackershofen und Schwäbisch Hall
DESCRIPTION:Donnerstag\, 5. Juni 2025\n\n\n\nJahresausflug nach Wackershofe
 n und Schwäbisch Hall\n\n\n\nFührung im Freilichtmuseum in Wackershofen\
 , Essen im Museumsgasthof Roter Ochsen\, Weiterfahrt mit der S-Bahn\, Alts
 tadtführung in Schwäbisch Hall mit Kirche St. Michael\, Kaffeezeit.\n\nT
 reffpunkt: 9 Uhr\, Bahnhof in Ludwigsburg\, Gleis 1\n\nFahrt mit dem ÖPNV
 \, Rückfahrt ca. ab 17 Uhr.\n\nAnmeldung bis 6.5.2025: Tel. 07141/ 956444
 9 oder info@kneippverein-ludwigsburg.de\n\n\nMit Überweisung der Gebühre
 n ist die Anmeldung verbindlich!\n\nBankverbindung:\nKreissparkasse Ludwig
 sburg\nIBAN DE66 6045 0050 0000 033682\nBIC: SOLADES1LBG\n\n
END:VEVENT
END:VCALENDAR