BEGIN:VCALENDAR
VERSION:2.0
PRODID:-//wp-events-plugin.com//7.2.3.1//EN
BEGIN:VEVENT
UID:13@kneippverein-ludwigsburg.de
DTSTART;TZID=Europe/Berlin:20260309T173000
DTEND;TZID=Europe/Berlin:20260313T193000
DTSTAMP:20251208T140131Z
URL:https://www.kneippverein-ludwigsburg.de/veranstaltungen/basenfasten/
SUMMARY:Basenfasten
DESCRIPTION:Das Basenfasten ist für alle geeignet\, die eine schonende\, m
 ilde Fastenform wünschen
LOCATION:Ev. Gemeindezentrum\, Wilhelm-Nagel-Str. 59\, Ludwigsburg-Hoheneck
 \, 71642\, Deutschland
X-APPLE-STRUCTURED-LOCATION;VALUE=URI;X-ADDRESS=Wilhelm-Nagel-Str. 59\, Lud
 wigsburg-Hoheneck\, 71642\, Deutschland;X-APPLE-RADIUS=100;X-TITLE=Ev. Gem
 eindezentrum:geo:0,0
END:VEVENT
BEGIN:VTIMEZONE
TZID:Europe/Berlin
X-LIC-LOCATION:Europe/Berlin
BEGIN:STANDARD
DTSTART:20251026T020000
TZOFFSETFROM:+0200
TZOFFSETTO:+0100
TZNAME:CET
END:STANDARD
END:VTIMEZONE
END:VCALENDAR